BEGIN:VCALENDAR
VERSION:2.0
PRODID:-//ChamberMaster//Event Calendar 2.0//EN
METHOD:PUBLISH
X-PUBLISHED-TTL:P3D
REFRESH-INTERVAL:P3D
CALSCALE:GREGORIAN
BEGIN:VEVENT
DTSTART:20230916T170000Z
DTEND:20230917T040000Z
X-MICROSOFT-CDO-ALLDAYEVENT:FALSE
SUMMARY:Humboldt's Premium Arcata Grand Opening
DESCRIPTION:Humboldt's Premium Arcata Grand Opening Saturday September 16th at 460 I St\, right off Samoa Blvd. This is an all-day event 10am-9pm\, over 10 vendors\, just like 420\, Great Deals ?? DJ LVSTRNG 12pm-4pm\, DJ Ru$$ian Doll 4pm-8pm with a food truck. Get a Chance to "Spin the Wheel" and enjoy our outside Consumption Lounge. Free Delivery $40 minimum inside Arcata City limit. Check out other location minimum on our website at www.humboldtspremium.com 707-630-4098 Daily Specials plus 10% off with valid Student ID every day\, No Student ID? NO problem 10% off between 4:20pm to 5:20pm. We look forward to seeing you there!
X-ALT-DESC;FMTTYPE=text/html:Humboldt&rsquo\;s Premium Arcata Grand Opening Saturday September 16th at 460 I St\, right off Samoa Blvd. This is an all-day event 10am-9pm\, over 10 vendors\, just like 420\, Great Deals ?? DJ LVSTRNG 12pm-4pm\, DJ Ru$$ian Doll 4pm-8pm with a food truck. Get a Chance to &ldquo\;Spin the Wheel&rdquo\; and enjoy our outside Consumption Lounge. Free Delivery $40 minimum inside Arcata City limit. Check out other location minimum on our website at www.humboldtspremium.com 707-630-4098 Daily Specials plus 10% off with valid Student ID every day\, No Student ID? NO problem 10% off between 4:20pm to 5:20pm. We look forward to seeing you there!
LOCATION:460 I St\, Arcata\, right off Samoa Blvd
UID:e.2942.308
SEQUENCE:3
DTSTAMP:20260421T194538Z
URL:https://business.arcatachamber.com/events/details/humboldt-s-premium-arcata-grand-opening-09-16-2023-308
END:VEVENT

END:VCALENDAR
