BEGIN:VCALENDAR
VERSION:2.0
PRODID:-//ChamberMaster//Event Calendar 2.0//EN
METHOD:PUBLISH
X-PUBLISHED-TTL:P3D
REFRESH-INTERVAL:P3D
CALSCALE:GREGORIAN
BEGIN:VEVENT
DTSTART:20250323T010000Z
DTEND:20250323T050000Z
X-MICROSOFT-CDO-ALLDAYEVENT:FALSE
SUMMARY:Humboldt Roller Derby Presents: Home Team Hustle!
DESCRIPTION:Alright die hard fans\, get your home team colors on as we have both HRD's North Jetty Bettys and the Widow Makers make it rain! Then stick around to welcome our visiting team all the way from the bay\, it's the fabulous San Francisco Rolling Dead (Bay Area Derby)!! First whistle is at 6:00 PM at Redwood Acres - 3750 Harris St. Eureka\, Calif. Game 1 - NJB vs Widow Makers. Game 2 - HRD vs Rolling Dead (B.A.D.) Saturday\, March 22  Event: 6:00 PM to 10:00 PM. Doors open at 5:00 PM. Support your favorite roller derby by arriving early to get your favorite seat\, enjoy our concession items\, and check out the latest merchandise. Tickets available Online at www.HumboldtRollerDerby.com\, Tickets available in-store at STIL (Eureka) Wildberries (Arcata) and at the Entry Gate (as available). Always serving on tap local beer\, cider\, & seltzer from Mad River Brewery\, Lost Coast Brewery\, Humboldt Cider Co.\, Six Rivers Brewery\, and It's Alive Kombucha. Food and desserts are all available at concessions from sponsors like Los Bagels and Ramone's Bakery. HRD wants to Thank all the Humboldt County Fans and Committee folks who volunteer their time at every game. It's an all hands on deck production\, and we couldn't do it without them. Volunteer with H.R.D.! Contact us at Volunteer@humboldtrollerdery.com. Check out our social media for the latest photos\, scrimmage dates\, and sponsor shout-outs @ HumboldtRollerDerby Try our online Shop! Now on www.HumboldtRollerDerby.com. Can't catch a game? Tune in to KZZH 96.7FM or Swing over to @AccessHumboldt (YouTube) to watch our video stream LIVE from Franceschi Hall.
X-ALT-DESC;FMTTYPE=text/html:Alright die hard fans\, get your home team colors on as we have both HRD&rsquo\;s North Jetty Bettys and the Widow Makers make it rain! Then stick around to welcome our visiting team all the way from the bay\, it&rsquo\;s the fabulous San Francisco Rolling Dead (Bay Area Derby)!! First whistle is at 6:00 PM at Redwood Acres - 3750 Harris St. Eureka\, Calif. Game 1 - NJB vs Widow Makers. Game 2 - HRD vs Rolling Dead (B.A.D.) Saturday\, March 22&mdash\; Event: 6:00 PM to 10:00 PM. Doors open at 5:00 PM. Support your favorite roller derby by arriving early to get your favorite seat\, enjoy our concession items\, and check out the latest merchandise. Tickets available Online at www.HumboldtRollerDerby.com\, Tickets available in-store at STIL (Eureka) Wildberries (Arcata) and at the Entry Gate (as available). Always serving on tap local beer\, cider\, &amp\; seltzer from Mad River Brewery\, Lost Coast Brewery\, Humboldt Cider Co.\, Six Rivers Brewery\, and It&rsquo\;s Alive Kombucha. Food and desserts are all available at concessions from sponsors like Los Bagels and Ramone&rsquo\;s Bakery. HRD wants to Thank all the Humboldt County Fans and Committee folks who volunteer their time at every game. It&rsquo\;s an all hands on deck production\, and we couldn&rsquo\;t do it without them. Volunteer with H.R.D.! Contact us at Volunteer@humboldtrollerdery.com. Check out our social media for the latest photos\, scrimmage dates\, and sponsor shout-outs @ HumboldtRollerDerby Try our online Shop! Now on www.HumboldtRollerDerby.com. Can&rsquo\;t catch a game? Tune in to KZZH 96.7FM or Swing over to @AccessHumboldt (YouTube) to watch our video stream LIVE from Franceschi Hall.
LOCATION:Redwood Acres - 3750 Harris St. Eureka\, Calif.
UID:e.2942.571
SEQUENCE:3
DTSTAMP:20260421T162708Z
URL:https://business.arcatachamber.com/events/details/humboldt-roller-derby-presents-home-team-hustle-571
END:VEVENT

END:VCALENDAR
