BEGIN:VCALENDAR
VERSION:2.0
PRODID:-//ChamberMaster//Event Calendar 2.0//EN
METHOD:PUBLISH
X-PUBLISHED-TTL:P3D
REFRESH-INTERVAL:P3D
CALSCALE:GREGORIAN
BEGIN:VEVENT
DTSTART:20240428T010000Z
DTEND:20240428T050000Z
X-MICROSOFT-CDO-ALLDAYEVENT:FALSE
SUMMARY:Humboldt Roller Derby Double-Header! Hometown Showdown: Widow Makers v. Emerald City and North Jetty Bettys v. North Bay
DESCRIPTION:Saturday April 27  6:00 p.m. to 10:00 p.m. Humboldt Roller Derby Double-Header at Franchesci Hall! 3750 Harris St. Eureka\, Calif. Doors open at 5:00 p.m. First whistle is at 6:00 p.m. Arrive early to get your favorite seat and concession item\, check out the merch table\, and support our teams. This will be our last game until after summer break\, and Training camps will start again in the Fall! First bout will see the WidowMakers take on Emerald City Roller Derby (from Oregon)\; Second bout will see the North Jetty Bettys receiving North Bay Roller Derby all the way from Sonoma County Calif. Tickets available Online at www.HumboldtRollerDerby.com\, Tickets available in-store at STIL (Eureka) Wildberries (Arcata) and at the Entry Gate (as available). Serving local beer\, cider\, & seltzers from local breweries like Mad River Brewery\, Lost Coast Brewery\, Humboldt Cider Co.\, Six Rivers Brewery\, and It's Alive Kombucha. Food and desserts are all available at concessions from sponsors like Los Bagels and Ramone's Bakery. HRD wants to Thank all the Humboldt County Fans and Committee Folx who volunteer their time! It's an all hands on deck production\, and we couldn't do it without them. Now you can also volunteer at our games starting in September\, Volunteer with HRD by emailing Volunteer@humboldtrollerdery.com. Check out our social media accounts for photos\, scrimmage dates\, and sponsor shout-outs! Instagram: HUMBOLDT ROLLER DERBY\, and Facebook: HUMBOLDT ROLLER DERBY. Can't buy merch at our games? Try our online Shop! Now on www.HumboldtRollerDerby.com. Thank You Humboldt!
X-ALT-DESC;FMTTYPE=text/html:Saturday April 27&mdash\; 6:00 p.m. to 10:00 p.m. Humboldt Roller Derby Double-Header at Franchesci Hall! 3750 Harris St. Eureka\, Calif. Doors open at 5:00 p.m. First whistle is at 6:00 p.m. Arrive early to get your favorite seat and concession item\, check out the merch table\, and support our teams. This will be our last game until after summer break\, and Training camps will start again in the Fall! First bout will see the WidowMakers take on Emerald City Roller Derby (from Oregon)\; Second bout will see the North Jetty Bettys receiving North Bay Roller Derby all the way from Sonoma County Calif. Tickets available Online at www.HumboldtRollerDerby.com\, Tickets available in-store at STIL (Eureka) Wildberries (Arcata) and at the Entry Gate (as available). Serving local beer\, cider\, &amp\; seltzers from local breweries like Mad River Brewery\, Lost Coast Brewery\, Humboldt Cider Co.\, Six Rivers Brewery\, and It&rsquo\;s Alive Kombucha. Food and desserts are all available at concessions from sponsors like Los Bagels and Ramone&rsquo\;s Bakery. HRD wants to Thank all the Humboldt County Fans and Committee Folx who volunteer their time! It&rsquo\;s an all hands on deck production\, and we couldn&rsquo\;t do it without them. Now you can also volunteer at our games starting in September\, Volunteer with HRD by emailing Volunteer@humboldtrollerdery.com. Check out our social media accounts for photos\, scrimmage dates\, and sponsor shout-outs! Instagram: HUMBOLDT ROLLER DERBY\, and Facebook: HUMBOLDT ROLLER DERBY. Can&rsquo\;t buy merch at our games? Try our online Shop! Now on www.HumboldtRollerDerby.com. Thank You Humboldt!
LOCATION:Franchesci Hall at Redwood Acres 3750 Harris St. Eureka\, Calif.
UID:e.2942.508
SEQUENCE:3
DTSTAMP:20260422T064916Z
URL:https://business.arcatachamber.com/events/details/humboldt-roller-derby-double-header-hometown-showdown-widow-makers-v-emerald-city-and-north-jetty-bettys-v-north-bay-508
END:VEVENT

END:VCALENDAR
