BEGIN:VCALENDAR
VERSION:2.0
PRODID:-//ChamberMaster//Event Calendar 2.0//EN
METHOD:PUBLISH
X-PUBLISHED-TTL:P3D
REFRESH-INTERVAL:P3D
CALSCALE:GREGORIAN
BEGIN:VEVENT
DTSTART:20230223T180000Z
DTEND:20230223T193000Z
X-MICROSOFT-CDO-ALLDAYEVENT:FALSE
SUMMARY:How to Do Business With the State of California
DESCRIPTION:Join Norcal APEX-Accelerator\, formerly Norcal PTAC\, for our return to hosting in-person workshops! How to Do Business With the State of California will take place on Thursday\, Feb. 23rd from 10:00 a.m. to 11:30 a.m. at the Humboldt Bay Aquatic Center\, 921 Waterfront Dr. in Eureka. Last year the state of California spent more than $10 billion on goods and services\, including more than $2 billion with small businesses. State agencies buy everything from construction and fencing to marketing and pest control services. They even buy goats for grazing. Don't miss out on this in-person workshop for businesses new to state contracting or those who want a refresher. Understand the basics of state government contracting and get valuable information on how to get certified as a small business (SB) or disabled veteran business enterprise (DVBE) and begin selling your products and services to the state of California.
X-ALT-DESC;FMTTYPE=text/html:Join Norcal APEX-Accelerator\, formerly Norcal PTAC\, for our return to hosting in-person workshops! How to Do Business With the State of California will take place on Thursday\, Feb. 23rd from 10:00 a.m. to 11:30 a.m. at the Humboldt Bay Aquatic Center\, 921 Waterfront Dr. in Eureka. Last year the state of California spent more than $10 billion on goods and services\, including more than $2 billion with small businesses. State agencies buy everything from construction and fencing to marketing and pest control services. They even buy goats for grazing. Don&#39\;t miss out on this in-person workshop for businesses new to state contracting or those who want a refresher. Understand the basics of state government contracting and get valuable information on how to get certified as a small business (SB) or disabled veteran business enterprise (DVBE) and begin selling your products and services to the state of California.
LOCATION:Humboldt Bay Aquatic Center 921 Waterfront Dr.\, Eureka\, California
UID:e.2942.111
SEQUENCE:3
DTSTAMP:20260421T084847Z
URL:https://business.arcatachamber.com/events/details/how-to-do-business-with-the-state-of-california-111
END:VEVENT

END:VCALENDAR
