BEGIN:VCALENDAR
VERSION:2.0
PRODID:-//ChamberMaster//Event Calendar 2.0//EN
METHOD:PUBLISH
X-PUBLISHED-TTL:P3D
REFRESH-INTERVAL:P3D
CALSCALE:GREGORIAN
BEGIN:VEVENT
DTSTART:20230325T200000Z
DTEND:20230326T010000Z
X-MICROSOFT-CDO-ALLDAYEVENT:FALSE
SUMMARY:Hounds of Humboldt Dog Party
DESCRIPTION:We've got another great event coming your way on March 25th!\n\nWe will be partnering with Hatchet House Throwing Club for a dog party and blocking off the parking lot to fill with vendors and good eats by The C UXP! We'll be selling raffle tickets for one big prize filled with gift certificates and great items donated by local businesses. We can't wait to puppy party with you all again!
X-ALT-DESC;FMTTYPE=text/html:<div>We&#39\;ve got another great event coming your way on March 25th!</div>\n\n<div>We will be partnering with <span style="font-family:inherit"><a class="x1i10hfl xjbqb8w x6umtig x1b1mbwd xaqea5y xav7gou x9f619 x1ypdohk xt0psk2 xe8uvvx xdj266r x11i5rnm xat24cr x1mh8g0r xexx8yu x4uap5 x18d9i69 xkhd6sd x16tdsg8 x1hl2dhg xggy1nq x1a2a7pz xt0b8zv x1qq9wsj xo1l8bm" href="https://www.facebook.com/hatchethousethrowing?__cft__[0]=AZUfxtO33zgZ18VW3v0d5enplRg7m10H0rE8RTtWry4OgTw9Gbfw2k2G9hFXnF0MrqRU98ejcptuus9n_TQRpItIFCP0Wa_6HtJzrmRRUc3g-QrofvncD8MOdXWKDPfiQcGHKr6FAEXtXD6LuPPA5fRu7iGLfmYPRWkbym2-iXfrk6vkMpSCvXSZT-F2VM-ibKg&amp\;__tn__=-]K-R" style="cursor: pointer\; text-decoration-line: none\; margin: 0px\; text-align: inherit\; padding: 0px\; outline: none\; border-width: 0px\; border-style: initial\; border-color: initial\; -webkit-tap-highlight-color: transparent\; box-sizing: border-box\; list-style: none\; touch-action: manipulation\; background-color: transparent\; display: inline\; font-family: inherit\;" tabindex="0"><span style="font-family:inherit">Hatchet House Throwing Club</span></a></span> for a dog party and blocking off the parking lot to fill with vendors and good eats by <span style="font-family:inherit"><a class="x1i10hfl xjbqb8w x6umtig x1b1mbwd xaqea5y xav7gou x9f619 x1ypdohk xt0psk2 xe8uvvx xdj266r x11i5rnm xat24cr x1mh8g0r xexx8yu x4uap5 x18d9i69 xkhd6sd x16tdsg8 x1hl2dhg xggy1nq x1a2a7pz xt0b8zv x1qq9wsj xo1l8bm" href="https://www.facebook.com/profile.php?id=100064129234944&amp\;__cft__[0]=AZUfxtO33zgZ18VW3v0d5enplRg7m10H0rE8RTtWry4OgTw9Gbfw2k2G9hFXnF0MrqRU98ejcptuus9n_TQRpItIFCP0Wa_6HtJzrmRRUc3g-QrofvncD8MOdXWKDPfiQcGHKr6FAEXtXD6LuPPA5fRu7iGLfmYPRWkbym2-iXfrk6vkMpSCvXSZT-F2VM-ibKg&amp\;__tn__=-]K-R" style="cursor: pointer\; text-decoration-line: none\; margin: 0px\; text-align: inherit\; padding: 0px\; outline: none\; border-width: 0px\; border-style: initial\; border-color: initial\; -webkit-tap-highlight-color: transparent\; box-sizing: border-box\; list-style: none\; touch-action: manipulation\; background-color: transparent\; display: inline\; font-family: inherit\;" tabindex="0"><span style="font-family:inherit">The C&Oslash\;UXP</span></a></span>! We&#39\;ll be selling raffle tickets for one big prize filled with gift certificates and great items donated by local businesses. We can&#39\;t wait to puppy party with you all again!</div>\n
LOCATION:Hatchet House Arcata
UID:e.2942.246
SEQUENCE:3
DTSTAMP:20260421T101739Z
URL:https://business.arcatachamber.com/events/details/hounds-of-humboldt-dog-party-246
END:VEVENT

END:VCALENDAR
