BEGIN:VCALENDAR
VERSION:2.0
PRODID:-//ChamberMaster//Event Calendar 2.0//EN
METHOD:PUBLISH
X-PUBLISHED-TTL:P3D
REFRESH-INTERVAL:P3D
CALSCALE:GREGORIAN
BEGIN:VEVENT
DTSTART:20260201T200000Z
DTEND:20260201T210000Z
X-MICROSOFT-CDO-ALLDAYEVENT:FALSE
SUMMARY:Hero’s Parade on the Plaza
DESCRIPTION:11AM- 12PM- Booths in the center of the Plaza include Volunteer Fire Depts. & additional Emergency Response agencies\, Northtown Books and Facepainting by Erin\n\n11:50 Mayor Kimberly White reads the City's proclamation \n\n12 Noon- Parade starts around the plaza
X-ALT-DESC;FMTTYPE=text/html:11AM- 12PM- Booths in the center of the Plaza include Volunteer Fire Depts. &amp\; additional Emergency Response agencies\, Northtown Books and Facepainting by Erin<br />\n11:50 Mayor Kimberly White reads the City&#39\;s proclamation&nbsp\;<br />\n12 Noon- Parade starts around the plaza
LOCATION:The Plaza
UID:e.2942.640
SEQUENCE:3
DTSTAMP:20260421T174050Z
URL:https://business.arcatachamber.com/events/details/hero-s-parade-on-the-plaza-640
END:VEVENT

END:VCALENDAR
