BEGIN:VCALENDAR
VERSION:2.0
PRODID:-//ChamberMaster//Event Calendar 2.0//EN
METHOD:PUBLISH
X-PUBLISHED-TTL:P3D
REFRESH-INTERVAL:P3D
CALSCALE:GREGORIAN
BEGIN:VEVENT
DTSTART:20240330T200000Z
DTEND:20240330T230000Z
X-MICROSOFT-CDO-ALLDAYEVENT:FALSE
SUMMARY:Herb and Market Seed Swap and Sale
DESCRIPTION:Get ready to dig into the ultimate seed swap experience! Trade your prized traditional garden\, flower\, and veggie seeds/starts with your fellow green-thumbed enthusiasts and uncover a treasure trove of premium seeds from acclaimed cannabis breeders! Let's nurture growth and connection together! Plus\, a captivating panel discussion and meet-and-greet with the masterminds from Biovortex\, Willie G\, Humboldt Seed Co\, and Cha Education! Don't miss out on this epic gathering!  This event is FREE!
X-ALT-DESC;FMTTYPE=text/html:Get ready to dig into the ultimate seed swap experience! Trade your prized traditional garden\, flower\, and veggie seeds/starts with your fellow green-thumbed enthusiasts and uncover a treasure trove of premium seeds from acclaimed cannabis breeders! Let&#39\;s nurture growth and connection together! Plus\, a captivating panel discussion and meet-and-greet with the masterminds from Biovortex\, Willie G\, Humboldt Seed Co\, and Cha Education! Don&#39\;t miss out on this epic gathering!&nbsp\; This event is FREE!
LOCATION:427 H Street Arcata\, CA 95521
UID:e.2942.498
SEQUENCE:3
DTSTAMP:20260422T064747Z
URL:https://business.arcatachamber.com/events/details/herb-and-market-seed-swap-and-sale-498
END:VEVENT

END:VCALENDAR
