BEGIN:VCALENDAR
VERSION:2.0
PRODID:-//ChamberMaster//Event Calendar 2.0//EN
METHOD:PUBLISH
X-PUBLISHED-TTL:P3D
REFRESH-INTERVAL:P3D
CALSCALE:GREGORIAN
BEGIN:VEVENT
DTSTART:20221104T190000Z
DTEND:20221104T203000Z
X-MICROSOFT-CDO-ALLDAYEVENT:FALSE
SUMMARY:Grand Opening & Ribbon Cutting - Bella Basket’s Humboldt Marketplace
DESCRIPTION:Ribbon Cutting & Grand Opening of new location in Arcata. Come celebrate their new production location in Arcata's Foodworks Culinary Center. Bella Baskets\, a 17-year-old\, Humboldt-original\, local-product gift basket company\, expanded to offer eco-friendly gift boxes under the name "Humboldt Marketplace" to reduce waste and streamline global shipping capacity during the pandemic\, after closing the storefront in Old Town Eureka. \n \n\nThey carefully curated gift boxes for any occasion with "Humboldt Culinary Style"\, using local food makers' products that are beloved by our community. Kool Beans coffee shop in Myrtletown and Eureka Florist continues to be pick-up locations for local orders\, as well as the Arcata Foodworks location on Wednesday afternoons from noon-5:30pm. Free deliveries are offered from south McKinleyville to Humboldt Hill\, and they ship globally. Order early for the holidays! \n \n\nLight refreshments will be available. They will have festive decorations\, boxes on display\, and their fellow Foodworks vendors (many of which are Arcata Chamber members) will be invited to join us.
X-ALT-DESC;FMTTYPE=text/html:<p dir="ltr" style="line-height:1.38\;margin-top:0pt\;margin-bottom:0pt\;"><span id="docs-internal-guid-28ef05a4-7fff-7a30-eebb-750e6f4c02ba"><span style="font-size: 11pt\; font-family: Arial\; color: rgb(0\, 0\, 0)\; background-color: transparent\; font-variant-numeric: normal\; font-variant-east-asian: normal\; vertical-align: baseline\; white-space: pre-wrap\;">Ribbon Cutting &amp\; Grand Opening of new location in Arcata. Come celebrate their new production location in Arcata&rsquo\;s Foodworks Culinary Center. Bella Baskets\, a 17-year-old\, Humboldt-original\, local-product gift basket company\, expanded to offer eco-friendly gift boxes under the name &ldquo\;Humboldt Marketplace&rdquo\; to reduce waste and streamline global shipping capacity during the pandemic\, after closing the storefront in Old Town Eureka.&nbsp\;</span></span></p>\n&nbsp\;\n\n<p dir="ltr" style="line-height:1.38\;margin-top:0pt\;margin-bottom:0pt\;"><span id="docs-internal-guid-28ef05a4-7fff-7a30-eebb-750e6f4c02ba"><span style="font-size: 11pt\; font-family: Arial\; color: rgb(0\, 0\, 0)\; background-color: transparent\; font-variant-numeric: normal\; font-variant-east-asian: normal\; vertical-align: baseline\; white-space: pre-wrap\;">They carefully curated gift boxes for any occasion with &ldquo\;Humboldt Culinary Style&rdquo\;\, using local food makers&rsquo\; products that are beloved by our community. Kool Beans coffee shop in Myrtletown and Eureka Florist continues to be pick-up locations for local orders\, as well as the Arcata Foodworks location on Wednesday afternoons from noon-5:30pm. Free deliveries are offered from south McKinleyville to Humboldt Hill\, and they ship globally. Order early for the holidays!&nbsp\;</span></span></p>\n&nbsp\;\n\n<p dir="ltr" style="line-height:1.38\;margin-top:0pt\;margin-bottom:0pt\;"><span id="docs-internal-guid-28ef05a4-7fff-7a30-eebb-750e6f4c02ba"><span style="font-size: 11pt\; font-family: Arial\; color: rgb(0\, 0\, 0)\; background-color: transparent\; font-variant-numeric: normal\; font-variant-east-asian: normal\; vertical-align: baseline\; white-space: pre-wrap\;">Light refreshments will be available. They will have festive decorations\, boxes on display\, and their fellow Foodworks vendors (many of which are Arcata Chamber members) will be invited to join us. </span></span></p>\n
LOCATION:100 Ericson Ct\, Suite 100L\, Arcata\, CA 95521
UID:e.2942.43
SEQUENCE:3
DTSTAMP:20260421T151632Z
URL:https://business.arcatachamber.com/events/details/grand-opening-ribbon-cutting-bella-basket-s-humboldt-marketplace-43
END:VEVENT

END:VCALENDAR
