BEGIN:VCALENDAR
VERSION:2.0
PRODID:-//ChamberMaster//Event Calendar 2.0//EN
METHOD:PUBLISH
X-PUBLISHED-TTL:P3D
REFRESH-INTERVAL:P3D
CALSCALE:GREGORIAN
BEGIN:VEVENT
DTSTART:20230310T013000Z
DTEND:20230310T023000Z
X-MICROSOFT-CDO-ALLDAYEVENT:FALSE
SUMMARY:Google Maps Workshop
DESCRIPTION:Optimize Google Search with Google Maps to discover Humboldt businesses and support tourism.\n\n\n\nJoin us for a workshop to see simple methods to get your website on the first page results of Google searches. Maximize discovering your business with photos\, reviews\, and more can be easy\, and learning what reviewers are saying about your business is crucial information.\n\n\n\nParticipants of this 50-minute workshop will learn tips to help customers and tourist find their businesses\, and to learn benefits of evaluating Google Map information. If you bring a photo in your smartphone or computer\, you can follow along and start the process during the workshop.\n\n\n\nCyril Oberlander\, Cal Poly Humboldt Library Dean\, added over 5\,000 photos and reviews since July 2020\, and to date\, has seen over 25 million views. Hear about the origin of the Discovering Humboldt Project  from discovering student favorite places\, to connecting and supporting students\, tourism\, and local businesses.\n\n\n\nBy enhancing regional information\, we are making Humboldt more visible in a world where search engine bias for big data often directs traffic to urban areas. Presentation shares Discovering Humboldt Project's methods that are applicable to other campuses.
X-ALT-DESC;FMTTYPE=text/html:<span style="font-family:arial\;"><strong><span style="font-size:14px\;">Optimize Google Search with Google Maps to discover Humboldt businesses and support tourism.</span></strong></span><br />\n<br />\nJoin us for a workshop to see simple methods to get your website on the first page results of Google searches. Maximize discovering your business with photos\, reviews\, and more can be easy\, and learning what reviewers are saying about your business is crucial information.<br />\n<br />\nParticipants of this 50-minute workshop will learn tips to help customers and tourist find their businesses\, and to learn benefits of evaluating Google Map information. If you bring a photo in your smartphone or computer\, you can follow along and start the process during the workshop.<br />\n<br />\nCyril Oberlander\, Cal Poly Humboldt Library Dean\, added over 5\,000 photos and reviews since July 2020\, and to date\, has seen over 25 million views. Hear about the origin of the Discovering Humboldt Project&hellip\; from discovering student favorite places\, to connecting and supporting students\, tourism\, and local businesses.<br />\n<br />\nBy enhancing regional information\, we are making Humboldt more visible in a world where search engine bias for big data often directs traffic to urban areas. Presentation shares Discovering Humboldt Project&rsquo\;s methods that are applicable to other campuses.
LOCATION:1635 Heindon Road Arcata\, CA 95521
UID:e.2942.113
SEQUENCE:3
DTSTAMP:20260421T114354Z
URL:https://business.arcatachamber.com/events/details/google-maps-workshop-113
END:VEVENT

END:VCALENDAR
