BEGIN:VCALENDAR
VERSION:2.0
PRODID:-//ChamberMaster//Event Calendar 2.0//EN
METHOD:PUBLISH
X-PUBLISHED-TTL:P3D
REFRESH-INTERVAL:P3D
CALSCALE:GREGORIAN
BEGIN:VEVENT
DTSTART:20230908T003000Z
DTEND:20230908T020000Z
X-MICROSOFT-CDO-ALLDAYEVENT:FALSE
SUMMARY:First Thursday Mixer - Umpqua Bank
DESCRIPTION:Please consider donating a raffle prize to this in-person event! You can bring your donation to the event or drop it off at our office. You are not required to register for this event but it does help us out statistically!\n\n\n\nCall or email for availability at 707.822.3619 or Gloria@ArcataChamber.com
X-ALT-DESC;FMTTYPE=text/html:<span style="color: rgb(5\, 5\, 5)\; font-family: &quot\;Segoe UI Historic&quot\;\, &quot\;Segoe UI&quot\;\, Helvetica\, Arial\, sans-serif\; font-size: 15px\;">Please consider donating a raffle prize to this in-person event! You can bring your donation to the event or drop it off at our office. You are not required to register for this event but it does help us out statistically!</span><br style="box-sizing: border-box\; color: rgb(5\, 5\, 5)\; font-family: &quot\;Segoe UI Historic&quot\;\, &quot\;Segoe UI&quot\;\, Helvetica\, Arial\, sans-serif\; font-size: 15px\;" />\n<br style="box-sizing: border-box\; color: rgb(5\, 5\, 5)\; font-family: &quot\;Segoe UI Historic&quot\;\, &quot\;Segoe UI&quot\;\, Helvetica\, Arial\, sans-serif\; font-size: 15px\;" />\n<span style="color: rgb(5\, 5\, 5)\; font-family: &quot\;Segoe UI Historic&quot\;\, &quot\;Segoe UI&quot\;\, Helvetica\, Arial\, sans-serif\; font-size: 15px\;">Call or email for availability at 707.822.3619 or Gloria@ArcataChamber.com</span>
LOCATION:1063 G St\, Arcata\, CA 95521
UID:e.2942.105
SEQUENCE:3
DTSTAMP:20260421T193542Z
URL:https://business.arcatachamber.com/events/details/first-thursday-mixer-umpqua-bank-105
END:VEVENT

END:VCALENDAR
