BEGIN:VCALENDAR
VERSION:2.0
PRODID:-//ChamberMaster//Event Calendar 2.0//EN
METHOD:PUBLISH
X-PUBLISHED-TTL:P3D
REFRESH-INTERVAL:P3D
CALSCALE:GREGORIAN
BEGIN:VEVENT
DTSTART:20231006T003000Z
DTEND:20231006T020000Z
X-MICROSOFT-CDO-ALLDAYEVENT:FALSE
SUMMARY:First Thursday Mixer - The Hatchet House
DESCRIPTION:Join us for a wonderful mixer hosted by The Hatchet House in Arcata and co-sponsored by Express Employment Professionals.
X-ALT-DESC;FMTTYPE=text/html:Join us for a wonderful mixer hosted by The Hatchet House in Arcata and co-sponsored by Express Employment Professionals.&nbsp\;
LOCATION:737 G Street\, Arcata\, CA\, 95521
UID:e.2942.295
SEQUENCE:3
DTSTAMP:20260421T212010Z
URL:https://business.arcatachamber.com/events/details/first-thursday-mixer-the-hatchet-house-295
END:VEVENT

END:VCALENDAR
