BEGIN:VCALENDAR
VERSION:2.0
PRODID:-//ChamberMaster//Event Calendar 2.0//EN
METHOD:PUBLISH
X-PUBLISHED-TTL:P3D
REFRESH-INTERVAL:P3D
CALSCALE:GREGORIAN
BEGIN:VEVENT
DTSTART:20231208T013000Z
DTEND:20231208T030000Z
X-MICROSOFT-CDO-ALLDAYEVENT:FALSE
SUMMARY:First Thursday Mixer - Redwood Capital Bank
DESCRIPTION:Please consider donating a raffle prize to this in-person event! You can bring your donation to the event or drop it off at our office. Call or email for availability 707.822.3619 or Gloria@ArcataChamber.com
X-ALT-DESC;FMTTYPE=text/html:<span style="color: rgb(5\, 5\, 5)\; font-family: &quot\;Segoe UI Historic&quot\;\, &quot\;Segoe UI&quot\;\, Helvetica\, Arial\, sans-serif\; font-size: 15px\;">Please consider donating a raffle prize to this in-person event! You can bring your donation to the event or drop it off at our office. Call or email for availability 707.822.3619 or Gloria@ArcataChamber.com</span>
LOCATION:Redwood Capital Bank Arcata 1315 G St\, Arcata\, CA 95521\, USA
UID:e.2942.82
SEQUENCE:3
DTSTAMP:20260422T021951Z
URL:https://business.arcatachamber.com/events/details/first-thursday-mixer-redwood-capital-bank-82
END:VEVENT

END:VCALENDAR
