BEGIN:VCALENDAR
VERSION:2.0
PRODID:-//ChamberMaster//Event Calendar 2.0//EN
METHOD:PUBLISH
X-PUBLISHED-TTL:P3D
REFRESH-INTERVAL:P3D
CALSCALE:GREGORIAN
BEGIN:VEVENT
DTSTART:20240202T013000Z
DTEND:20240202T030000Z
X-MICROSOFT-CDO-ALLDAYEVENT:FALSE
SUMMARY:First Thursday Mixer - Pivotal Connections PT
DESCRIPTION:Join us at Pivotal Connections for a wonderful Mixer!
X-ALT-DESC;FMTTYPE=text/html:Join us at Pivotal Connections for a wonderful Mixer!
LOCATION:860 G St\, Arcata\, CA 95521
UID:e.2942.347
SEQUENCE:3
DTSTAMP:20260422T050733Z
URL:https://business.arcatachamber.com/events/details/first-thursday-mixer-pivotal-connections-pt-347
END:VEVENT

END:VCALENDAR
