BEGIN:VCALENDAR
VERSION:2.0
PRODID:-//ChamberMaster//Event Calendar 2.0//EN
METHOD:PUBLISH
X-PUBLISHED-TTL:P3D
REFRESH-INTERVAL:P3D
CALSCALE:GREGORIAN
BEGIN:VEVENT
DTSTART:20240308T013000Z
DTEND:20240308T030000Z
X-MICROSOFT-CDO-ALLDAYEVENT:FALSE
SUMMARY:First Thursday Mixer - NCGA Harvest Hub
DESCRIPTION:Join the Arcata Chamber of Commerce at the next Chamber Mixer\, hosted by the North Coast Growers' Association at our Harvest Hub.\n\nWe're excited to connect with our fellow chamber members\, and hope you'll come out to enjoy refreshments and chamber fun!\n\nNote: This will be a Zero Waste event
X-ALT-DESC;FMTTYPE=text/html:Join the Arcata Chamber of Commerce at the next Chamber Mixer\, hosted by the North Coast Growers&#39\; Association at our Harvest Hub.<br />\nWe&#39\;re excited to connect with our fellow chamber members\, and hope you&#39\;ll come out to enjoy refreshments and chamber fun!<br />\nNote: This will be a Zero Waste event
LOCATION:5720 W End Rd\, Arcata\, CA 95521-9394\, United States
UID:e.2942.496
SEQUENCE:3
DTSTAMP:20260422T064437Z
URL:https://business.arcatachamber.com/events/details/first-thursday-mixer-ncga-harvest-hub-496
END:VEVENT

END:VCALENDAR
