BEGIN:VCALENDAR
VERSION:2.0
PRODID:-//ChamberMaster//Event Calendar 2.0//EN
METHOD:PUBLISH
X-PUBLISHED-TTL:P3D
REFRESH-INTERVAL:P3D
CALSCALE:GREGORIAN
BEGIN:VEVENT
DTSTART:20230303T013000Z
DTEND:20230303T030000Z
X-MICROSOFT-CDO-ALLDAYEVENT:FALSE
SUMMARY:First Thursday Mixer - Humboldt Haberdashery
DESCRIPTION:We are excited to announce our March Mixer! Please join the Arcata Chamber of Commerce and co-hosts\, Humboldt Haberdashery and Arcata Main Street!\n\n\n\nPlease consider donating to this in-person event to make the evening wonderfully festive! You can bring your donation to the event or drop it off at our office. Call or email for availability at 707.897.6004 or Gloria@ArcataChamber.com
X-ALT-DESC;FMTTYPE=text/html:<span style="box-sizing: border-box\; color: rgb(68\, 68\, 68)\; font-family: Arial\, Helvetica\, sans-serif\; font-size: 16px\; background-color: rgb(255\, 255\, 255)\;">We are excited to announce our March Mixer! Please join the Arcata Chamber of Commerce and co-hosts\, Humboldt Haberdashery and Arcata Main Street!</span><br style="box-sizing: border-box\; color: rgb(68\, 68\, 68)\; font-family: Arial\, Helvetica\, sans-serif\; font-size: 16px\; background-color: rgb(255\, 255\, 255)\;" />\n<br style="box-sizing: border-box\; color: rgb(68\, 68\, 68)\; font-family: Arial\, Helvetica\, sans-serif\; font-size: 16px\; background-color: rgb(255\, 255\, 255)\;" />\n<span style="box-sizing: border-box\; outline: 0px\; color: rgb(68\, 68\, 68)\; font-family: Arial\, Helvetica\, sans-serif\; font-size: 16px\; background-color: rgb(255\, 255\, 255)\;">Please consider donating to this in-person event to make the evening wonderfully festive! You can bring your donation to the event or drop it off at our office. Call or email for availability at 707.897.6004 or Gloria@ArcataChamber.com</span>
LOCATION:959 H St\, Arcata\, CA 95521
UID:e.2942.109
SEQUENCE:3
DTSTAMP:20260421T101436Z
URL:https://business.arcatachamber.com/events/details/first-thursday-mixer-humboldt-haberdashery-109
END:VEVENT

END:VCALENDAR
