BEGIN:VCALENDAR
VERSION:2.0
PRODID:-//ChamberMaster//Event Calendar 2.0//EN
METHOD:PUBLISH
X-PUBLISHED-TTL:P3D
REFRESH-INTERVAL:P3D
CALSCALE:GREGORIAN
BEGIN:VEVENT
DTSTART:20230602T003000Z
DTEND:20230602T020000Z
X-MICROSOFT-CDO-ALLDAYEVENT:FALSE
SUMMARY:First Thursday Mixer - Holly Yashi
DESCRIPTION:Our next mixer will be on June 1st at The Holly Yashi Store Holly Yashi Jewelry in Arcata! There will be food provided by Caps Food Shack! We will be mostly networking outside and will be able to provide a few chairs but if you've got one\, bring one! As always there will be plate ware and utensils by Bright and Green and our reusable cups for drinks!\n\n\n\nPlease consider donating a raffle prize to this in-person event! You can bring your donation to the event or drop it off at our office. Call or email for availability 707.822.3619 or Gloria@ArcataChamber.com
X-ALT-DESC;FMTTYPE=text/html:<span style="font-size:14px\;"><span style="font-family:arial\;">Our next mixer will be on June 1st at The Holly Yashi Store Holly Yashi Jewelry in Arcata! There will be food provided by Caps Food Shack! We will be mostly networking outside and will be able to provide a few chairs but if you&#39\;ve got one\, bring one! As always there will be plate ware and utensils by Bright and Green and our reusable cups for drinks!<br />\n<br />\n<span style="color: rgb(5\, 5\, 5)\;">Please consider donating a raffle prize to this in-person event! You can bring your donation to the event or drop it off at our office. Call or email for availability 707.822.3619 or Gloria@ArcataChamber.com</span></span></span>
LOCATION:1300 9th Street Arcata CA 95521
UID:e.2942.79
SEQUENCE:3
DTSTAMP:20260421T145022Z
URL:https://business.arcatachamber.com/events/details/first-thursday-mixer-holly-yashi-79
END:VEVENT

END:VCALENDAR
