BEGIN:VCALENDAR
VERSION:2.0
PRODID:-//ChamberMaster//Event Calendar 2.0//EN
METHOD:PUBLISH
X-PUBLISHED-TTL:P3D
REFRESH-INTERVAL:P3D
CALSCALE:GREGORIAN
BEGIN:VEVENT
DTSTART:20250502T003000Z
DTEND:20250502T020000Z
X-MICROSOFT-CDO-ALLDAYEVENT:FALSE
SUMMARY:First Thursday Mixer - Community Resilience HUB
DESCRIPTION:Join us for a Mixer at the Community Resilience HUB at 4700 Valley East Blvd.
X-ALT-DESC;FMTTYPE=text/html:Join us for a Mixer at the Community Resilience HUB at 4700 Valley East Blvd.
LOCATION:
UID:e.2942.573
SEQUENCE:3
DTSTAMP:20260421T114903Z
URL:https://business.arcatachamber.com/events/details/first-thursday-mixer-community-resilience-hub-573
END:VEVENT

END:VCALENDAR
