BEGIN:VCALENDAR
VERSION:2.0
PRODID:-//ChamberMaster//Event Calendar 2.0//EN
METHOD:PUBLISH
X-PUBLISHED-TTL:P3D
REFRESH-INTERVAL:P3D
CALSCALE:GREGORIAN
BEGIN:VEVENT
DTSTART:20230505T003000Z
DTEND:20230505T020000Z
X-MICROSOFT-CDO-ALLDAYEVENT:FALSE
SUMMARY:First Thursday Mixer - Arcata House Partnership
DESCRIPTION:We are excited to announce our February Mixer! Please join the Arcata Chamber of Commerce and our host\, Arcata House Partnership!\n\n\n\nPlease consider donating to this in-person event to make the evening wonderfully festive! You can bring your donation to the event or drop it off at our office. Call or email for availability at 707.897.6004 or Gloria@ArcataChamber.com
X-ALT-DESC;FMTTYPE=text/html:We are excited to announce our February Mixer! Please join the Arcata Chamber of Commerce and our host\, Arcata House Partnership!<br>\n<br>\nPlease consider donating to this in-person event to make the evening wonderfully festive! You can bring your donation to the event or drop it off at our office. Call or email for availability at 707.897.6004 or Gloria@ArcataChamber.com
LOCATION:4701 Valley West Blvd Arcata\, CA 95521
UID:e.2942.107
SEQUENCE:3
DTSTAMP:20260421T133101Z
URL:https://business.arcatachamber.com/events/details/first-thursday-mixer-arcata-house-partnership-107
END:VEVENT

END:VCALENDAR
