BEGIN:VCALENDAR
VERSION:2.0
PRODID:-//ChamberMaster//Event Calendar 2.0//EN
METHOD:PUBLISH
X-PUBLISHED-TTL:P3D
REFRESH-INTERVAL:P3D
CALSCALE:GREGORIAN
BEGIN:VEVENT
DTSTART:20250808T003000Z
DTEND:20250808T020000Z
X-MICROSOFT-CDO-ALLDAYEVENT:FALSE
SUMMARY:First Thursday Mixer - Adult Day Health Care of Mad River
DESCRIPTION:Celebrating 40 years!\n\n3800 Janes Road Arcata\, CA 95521
X-ALT-DESC;FMTTYPE=text/html:Celebrating 40 years!<br />\n3800 Janes Road Arcata\, CA 95521
LOCATION:
UID:e.2942.558
SEQUENCE:3
DTSTAMP:20260419T133101Z
URL:https://business.arcatachamber.com/events/details/first-thursday-mixer-adult-day-health-care-of-mad-river-558
END:VEVENT

END:VCALENDAR
