BEGIN:VCALENDAR
VERSION:2.0
PRODID:-//ChamberMaster//Event Calendar 2.0//EN
METHOD:PUBLISH
X-PUBLISHED-TTL:P3D
REFRESH-INTERVAL:P3D
CALSCALE:GREGORIAN
BEGIN:VEVENT
DTSTART:20230407T003000Z
DTEND:20230407T020000Z
X-MICROSOFT-CDO-ALLDAYEVENT:FALSE
SUMMARY:First Thursday Mixer - Access Humboldt
DESCRIPTION:We are excited to announce our April Mixer! \n\n\n\nJoin us April 6 for the First Thursday\, Arcata Chamber Mixer at Access Humboldt. Tour the Access Humboldt facilities\, see their equipment and studio\, enjoy snacks and libations while mingling and networking.  The Access Humboldt team will also show a short video about what they do. Our Chamber Ambassador\, Talvi Fried\, will be hosting and recording her show\, "Thursday Night Talks". Some spots will be offered to chamber members who are coming to the mixer to talk about their association with the chamber and their business/organizations etc. They can also film guests saying a station ID for KZZH\,  "This is ________ from ________ and you're listening to KZZH 96.7FM" Come join the media fun at the Arcata Chamber mixer this Thursday. Help us celebrate Access Humboldt's new location at College of the Redwoods. Free parking will be arranged for guests. \n\n\n\nPlease consider donating to this in-person event to make the evening wonderfully festive! You can bring your donation to the event or drop it off at our office. Call or email for availability at 707.897.6004 or Gloria@ArcataChamber.com
X-ALT-DESC;FMTTYPE=text/html:<span style="font-size:18px\;"><span style="font-family:arial\;"><span style="box-sizing: border-box\; color: rgb(68\, 68\, 68)\;">We are excited to announce our April Mixer!&nbsp\;</span><br />\n<br style="box-sizing: border-box\; color: rgb(68\, 68\, 68)\; font-family: Arial\, Helvetica\, sans-serif\; font-size: 16px\;" />\n<span style="color: rgb(34\, 34\, 34)\; background-color: rgb(255\, 255\, 255)\;">Join us April 6 for the First Thursday\, Arcata Chamber Mixer at Access Humboldt. Tour the Access Humboldt facilities\, see their equipment and studio\, enjoy snacks and libations while mingling and networking.&nbsp\; The Access Humboldt team will also show a short video about what they do. Our Chamber Ambassador\, Talvi Fried\, will be&nbsp\;</span><span style="color: rgb(34\, 34\, 34)\; background-color: rgb(255\, 255\, 255)\;">hosting and&nbsp\;</span><span style="color: rgb(34\, 34\, 34)\; background-color: rgb(255\, 255\, 255)\;">recording her show\,&nbsp\;</span><span style="color: rgb(34\, 34\, 34)\; background-color: rgb(255\, 255\, 255)\;">&quot\;Thursday Night Talks&quot\;</span><span style="color: rgb(34\, 34\, 34)\; background-color: rgb(255\, 255\, 255)\;">. Some spots will be offered to chamber members who are coming to the mixer to talk about their association with the chamber and their business/organizations etc. They can also film guests saying a station ID for&nbsp\;</span><span style="color: rgb(34\, 34\, 34)\; background-color: rgb(255\, 255\, 255)\;">KZZH\,</span><span style="color: rgb(34\, 34\, 34)\; background-color: rgb(255\, 255\, 255)\;">&nbsp\; &quot\;This is ________ from ________ and you&#39\;re listening to KZZH&nbsp\;96.7FM&quot\; Come join the media fun at the Arcata Chamber mixer this Thursday. Help us celebrate Access Humboldt&#39\;s new location at College of the Redwoods. Free parking will be arranged for guests.&nbsp\;</span><br />\n<br style="box-sizing: border-box\; color: rgb(68\, 68\, 68)\; font-family: Arial\, Helvetica\, sans-serif\; font-size: 16px\;" />\n<span style="box-sizing: border-box\; color: rgb(68\, 68\, 68)\; outline: 0px\;">Please consider donating to this in-person event to make the evening wonderfully festive! You can bring your donation to the event or drop it off at our office. Call or email for availability at 707.897.6004 or Gloria@ArcataChamber.com</span></span></span>
LOCATION:7351 Tompkins Hill Road\, RBC-A (Building 10) Eureka\, CA 95501
UID:e.2942.249
SEQUENCE:3
DTSTAMP:20260421T114701Z
URL:https://business.arcatachamber.com/events/details/first-thursday-mixer-access-humboldt-249
END:VEVENT

END:VCALENDAR
