BEGIN:VCALENDAR
VERSION:2.0
PRODID:-//ChamberMaster//Event Calendar 2.0//EN
METHOD:PUBLISH
X-PUBLISHED-TTL:P3D
REFRESH-INTERVAL:P3D
CALSCALE:GREGORIAN
BEGIN:VEVENT
DTSTART:20250821T170000Z
DTEND:20250821T180000Z
X-MICROSOFT-CDO-ALLDAYEVENT:FALSE
SUMMARY:Federal Contracting: Tools to Succeed During Uncertainty
DESCRIPTION:Is working with the federal government still worth it? How can I manage risk and support my team through constant change? This webinar will provide practical tools to help your business stay steady\, strategic\, and successful\, despite the turbulence. You'll leave with new ways to evaluate risk\, adapt your approach\, and continue pursuing government opportunities with confidence.
X-ALT-DESC;FMTTYPE=text/html:Is working with the federal government still worth it? How can I manage risk and support my team through constant change? This webinar will provide practical tools to help your business stay steady\, strategic\, and successful\, despite the turbulence. You&rsquo\;ll leave with new ways to evaluate risk\, adapt your approach\, and continue pursuing government opportunities with confidence.
LOCATION:Virtual (Zoom Webinar)
UID:e.2942.585
SEQUENCE:3
DTSTAMP:20260419T132553Z
URL:https://business.arcatachamber.com/events/details/federal-contracting-tools-to-succeed-during-uncertainty-585
END:VEVENT

END:VCALENDAR
