BEGIN:VCALENDAR
VERSION:2.0
PRODID:-//ChamberMaster//Event Calendar 2.0//EN
METHOD:PUBLISH
X-PUBLISHED-TTL:P3D
REFRESH-INTERVAL:P3D
CALSCALE:GREGORIAN
BEGIN:VEVENT
DTSTART:20221211T210000Z
DTEND:20221211T230000Z
X-MICROSOFT-CDO-ALLDAYEVENT:FALSE
SUMMARY:Fabric Wreath Class
DESCRIPTION:$25 with all art supplies included!
X-ALT-DESC;FMTTYPE=text/html:$25 with all art supplies included!<br />\n&nbsp\;
LOCATION:Humboldt Haberdashery 959 H St Arcata
UID:e.2942.85
SEQUENCE:3
DTSTAMP:20260421T114428Z
URL:https://business.arcatachamber.com/events/details/fabric-wreath-class-85
END:VEVENT

END:VCALENDAR
