BEGIN:VCALENDAR
VERSION:2.0
PRODID:-//ChamberMaster//Event Calendar 2.0//EN
METHOD:PUBLISH
X-PUBLISHED-TTL:P3D
REFRESH-INTERVAL:P3D
CALSCALE:GREGORIAN
BEGIN:VEVENT
DTSTART:20240302T033000Z
DTEND:20240302T060000Z
X-MICROSOFT-CDO-ALLDAYEVENT:FALSE
SUMMARY:Eureka Symphony - Let The Drama Begin
DESCRIPTION:There is no more dramatic opening to a concert than Beethoven's Egmont Overture\, highlighting Beethoven's admiration the figure of the Dutch Count of Egmont and his dramatic stand against oppression. The overture is followed by Mozart's majestic 35th symphony\, known as the Haffner. The evening ends with Tchaikovsky's stunning Piano Concerto No. 1 in B? minor\, Op. 23\, performed by the brilliant pianist Alexander Tutunov.
X-ALT-DESC;FMTTYPE=text/html:There is no more dramatic opening to a concert than Beethoven&rsquo\;s Egmont Overture\, highlighting Beethoven&rsquo\;s admiration the figure of the Dutch Count of Egmont and his dramatic stand against oppression. The overture is followed by Mozart&rsquo\;s majestic 35th symphony\, known as the Haffner. The evening ends with Tchaikovsky&rsquo\;s stunning Piano Concerto No. 1 in B? minor\, Op. 23\, performed by the brilliant pianist Alexander Tutunov.
LOCATION:Arkley Center For The Performing Arts
UID:e.2942.495
SEQUENCE:3
DTSTAMP:20260422T064437Z
URL:https://business.arcatachamber.com/events/details/eureka-symphony-let-the-drama-begin-495
END:VEVENT

END:VCALENDAR
