BEGIN:VCALENDAR
VERSION:2.0
PRODID:-//ChamberMaster//Event Calendar 2.0//EN
METHOD:PUBLISH
X-PUBLISHED-TTL:P3D
REFRESH-INTERVAL:P3D
CALSCALE:GREGORIAN
BEGIN:VEVENT
DTSTART:20240413T023000Z
DTEND:20240413T050000Z
X-MICROSOFT-CDO-ALLDAYEVENT:FALSE
SUMMARY:Eureka Symphony - Distinctive Voices
DESCRIPTION:Discover the sounds of Andalusia with Espa a\, Rhapsody for Orchestra by the 19th century French composer Emmanuel Chabrier\, then cheer for a concerto played by the winner of the Eureka Symphony's Young Artist Showcase. The concert concludes with William Grant Still's Symphony No. 2 in G minor (Song of a New Race). Contrasting this work with his first symphony\, the Afro-American\, Still said its expansive harmonies show the world "a totally new individual."
X-ALT-DESC;FMTTYPE=text/html:Discover the sounds of Andalusia with Espa&ntilde\;a\, Rhapsody for Orchestra by the 19th century French composer Emmanuel Chabrier\, then cheer for a concerto played by the winner of the Eureka Symphony&rsquo\;s Young Artist Showcase. The concert concludes with William Grant Still&rsquo\;s Symphony No. 2 in G minor (Song of a New Race). Contrasting this work with his first symphony\, the Afro-American\, Still said its expansive harmonies show the world &ldquo\;a totally new individual.&rdquo\;
LOCATION:Arkley Center For the Performing Arts
UID:e.2942.503
SEQUENCE:3
DTSTAMP:20260422T064333Z
URL:https://business.arcatachamber.com/events/details/eureka-symphony-distinctive-voices-503
END:VEVENT

END:VCALENDAR
