BEGIN:VCALENDAR
VERSION:2.0
PRODID:-//ChamberMaster//Event Calendar 2.0//EN
METHOD:PUBLISH
X-PUBLISHED-TTL:P3D
REFRESH-INTERVAL:P3D
CALSCALE:GREGORIAN
BEGIN:VEVENT
DTSTART:20250819T230000Z
DTEND:20250820T020000Z
X-MICROSOFT-CDO-ALLDAYEVENT:FALSE
SUMMARY:Energy Efficiency & Electrification Fair
DESCRIPTION:Humboldt County residents have a limited window to claim valuable rebates and tax credits on home energy upgrades. Attend the Energy Efficiency & Electrification Fair\, hosted by 350 Humboldt and community partners\, to learn how to take advantage of these opportunities before they're gone. Get advice from energy experts\, meet experienced contractors\, and learn directly from neighbors.
X-ALT-DESC;FMTTYPE=text/html:Humboldt County residents have a limited window to claim valuable rebates and tax credits on home energy upgrades. Attend the Energy Efficiency &amp\; Electrification Fair\, hosted by 350 Humboldt and community partners\, to learn how to take advantage of these opportunities before they&#39\;re gone. Get advice from energy experts\, meet experienced contractors\, and learn directly from neighbors.
LOCATION:Jefferson Community Center Auditorium | 1000 B Street\, Eureka
UID:e.2942.597
SEQUENCE:3
DTSTAMP:20260419T132249Z
URL:https://business.arcatachamber.com/events/details/energy-efficiency-electrification-fair-597
END:VEVENT

END:VCALENDAR
