BEGIN:VCALENDAR
VERSION:2.0
PRODID:-//ChamberMaster//Event Calendar 2.0//EN
METHOD:PUBLISH
X-PUBLISHED-TTL:P3D
REFRESH-INTERVAL:P3D
CALSCALE:GREGORIAN
BEGIN:VEVENT
DTSTART:20230817T013000Z
DTEND:20230817T030000Z
X-MICROSOFT-CDO-ALLDAYEVENT:FALSE
SUMMARY:Demand Response Webinar
DESCRIPTION:Demand Response Webinar Learn how to manage energy usage and save or earn incentives Wednesday\, August 16 - 6:30-8:00 PM https://us02web.zoom.us/j/82763306573 The Redwood Coast Energy Authority (RCEA) is presenting a webinar on Demand Response programs on Wednesday\, August 16\, from 6:30 pm to 8:00 pm on Zoom for residents and businesses of Humboldt County. Residents and businesses will learn how Demand Response programs allow them to actively manage their energy usage and save money or earn incentives. To help residents and businesses choose a program\, RCEA created a Demand Response Provider Referral List through a Request for Qualifications process. Visit RCEA's website to learn more about the webinar and the Demand Response Provider Referral List\, at https://redwoodenergy.org/events/\, call (707) 269-1700\, and at https://redwoodenergy.org/rceas-demand-response-provider-referral-list/. You can also find various energy related services on RCEA's website to fit your specific needs.
X-ALT-DESC;FMTTYPE=text/html:Demand Response Webinar Learn how to manage energy usage and save or earn incentives Wednesday\, August 16 - 6:30-8:00 PM https://us02web.zoom.us/j/82763306573 The Redwood Coast Energy Authority (RCEA) is presenting a webinar on Demand Response programs on Wednesday\, August 16\, from 6:30 pm to 8:00 pm on Zoom for residents and businesses of Humboldt County. Residents and businesses will learn how Demand Response programs allow them to actively manage their energy usage and save money or earn incentives. To help residents and businesses choose a program\, RCEA created a Demand Response Provider Referral List through a Request for Qualifications process. Visit RCEA&rsquo\;s website to learn more about the webinar and the Demand Response Provider Referral List\, at https://redwoodenergy.org/events/\, call (707) 269-1700\, and at https://redwoodenergy.org/rceas-demand-response-provider-referral-list/. You can also find various energy related services on RCEA&rsquo\;s website to fit your specific needs.
LOCATION:Zoom https://us02web.zoom.us/j/82763306573
UID:e.2942.298
SEQUENCE:3
DTSTAMP:20260421T181134Z
URL:https://business.arcatachamber.com/events/details/demand-response-webinar-298
END:VEVENT

END:VCALENDAR
