BEGIN:VCALENDAR
VERSION:2.0
PRODID:-//ChamberMaster//Event Calendar 2.0//EN
METHOD:PUBLISH
X-PUBLISHED-TTL:P3D
REFRESH-INTERVAL:P3D
CALSCALE:GREGORIAN
BEGIN:VEVENT
DTSTART:20221202T013000Z
DTEND:20221202T030000Z
X-MICROSOFT-CDO-ALLDAYEVENT:FALSE
SUMMARY:December\, 2022 - First Thursday Mixer
DESCRIPTION:We are excited to announce our December in-person Mixer! Please join the Arcata Chamber of Commerce and our host\, Arcata Veterans Hall.\n\n\n\nPlease consider donating to this in-person event to make the evening wonderfully festive! You can bring your donation to the event or drop it off at our office. Call or email for availability at 707.822.3619 or Anisa@ArcataChamber.com
X-ALT-DESC;FMTTYPE=text/html:We are excited to announce our December in-person Mixer! Please join the Arcata Chamber of Commerce and our host\, Arcata Veterans Hall.<br />\n<br />\nPlease consider donating to this in-person event to make the evening wonderfully festive! You can bring your donation to the event or drop it off at our office. Call or email for availability at 707.822.3619 or Anisa@ArcataChamber.com
LOCATION:1425 J St Arcata\, CA 95521
UID:e.2942.41
SEQUENCE:3
DTSTAMP:20260421T131220Z
URL:https://business.arcatachamber.com/events/details/december-2022-first-thursday-mixer-41
END:VEVENT

END:VCALENDAR
