BEGIN:VCALENDAR
VERSION:2.0
PRODID:-//ChamberMaster//Event Calendar 2.0//EN
METHOD:PUBLISH
X-PUBLISHED-TTL:P3D
REFRESH-INTERVAL:P3D
CALSCALE:GREGORIAN
BEGIN:VEVENT
DTSTART:20250830T170000Z
DTEND:20250831T030000Z
X-MICROSOFT-CDO-ALLDAYEVENT:FALSE
SUMMARY:Dandar’s Boardgames and Books Celebrates Grand Opening and 6-Year Anniversary
DESCRIPTION:Dandar's Boardgames and Books is thrilled to announce the grand opening of its new\, larger location in downtown Arcata\, coupled with a celebration of its six-year anniversary. The community is invited to join the festivities on Saturday\, August 30\, 2025\, from 10 AM to 8 PM\, at their new address: 959 H St Arcata. This exciting event will feature a storewide sale and complimentary use of game tables in the newly expanded game space for the entire day. The new location provides ample room for comfortable gaming tables\, inviting customers to explore the store's extensive game library or bring their own favorite games to play.
X-ALT-DESC;FMTTYPE=text/html:Dandar&rsquo\;s Boardgames and Books is thrilled to announce the grand opening of its new\, larger location in downtown Arcata\, coupled with a celebration of its six-year anniversary. The community is invited to join the festivities on Saturday\, August 30\, 2025\, from 10 AM to 8 PM\, at their new address: 959 H St Arcata. This exciting event will feature a storewide sale and complimentary use of game tables in the newly expanded game space for the entire day. The new location provides ample room for comfortable gaming tables\, inviting customers to explore the store&#39\;s extensive game library or bring their own favorite games to play.
LOCATION:959 H St Arcata
UID:e.2942.598
SEQUENCE:3
DTSTAMP:20260419T132933Z
URL:https://business.arcatachamber.com/events/details/dandar-s-boardgames-and-books-celebrates-grand-opening-and-6-year-anniversary-598
END:VEVENT

END:VCALENDAR
