BEGIN:VCALENDAR
VERSION:2.0
PRODID:-//ChamberMaster//Event Calendar 2.0//EN
METHOD:PUBLISH
X-PUBLISHED-TTL:P3D
REFRESH-INTERVAL:P3D
CALSCALE:GREGORIAN
BEGIN:VEVENT
DTSTART:20250724T003000Z
DTEND:20250724T020000Z
X-MICROSOFT-CDO-ALLDAYEVENT:FALSE
SUMMARY:Community Conversation: Battery Energy Storage
DESCRIPTION:Redwood Coast Energy Authority\, in collaboration with the Schatz Energy Research Center\, is hosting a free public workshop on grid-supporting battery energy storage. This event will feature a presentation and panel discussion that explores how large-scale battery storage works\, its role in supporting California's grid\, and how storage projects can differ in purpose\, safety\, size\, and benefits. Learn about existing projects in Humboldt County that support public services\, such as the Redwood Coast Airport Microgrid and the Blue Lake Rancheria Microgrid\, as well as our current needs for new storage development to enhance local energy reliability and maximize the benefits of solar generation. This workshop will feature interactive segments\, including small group conversations and a Q&A session\, where community members will have the opportunity to ask questions\, share concerns\, and discuss locations across Humboldt County where battery storage could help meet reliability needs.
X-ALT-DESC;FMTTYPE=text/html:Redwood Coast Energy Authority\, in collaboration with the Schatz Energy Research Center\, is hosting a free public workshop on grid-supporting battery energy storage. This event will feature a presentation and panel discussion that explores how large-scale battery storage works\, its role in supporting California&rsquo\;s grid\, and how storage projects can differ in purpose\, safety\, size\, and benefits. Learn about existing projects in Humboldt County that support public services\, such as the Redwood Coast Airport Microgrid and the Blue Lake Rancheria Microgrid\, as well as our current needs for new storage development to enhance local energy reliability and maximize the benefits of solar generation. This workshop will feature interactive segments\, including small group conversations and a Q&amp\;A session\, where community members will have the opportunity to ask questions\, share concerns\, and discuss locations across Humboldt County where battery storage could help meet reliability needs.
LOCATION:D Street Neighborhood Center - 1301 D Street\, Arcata
UID:e.2942.581
SEQUENCE:3
DTSTAMP:20260421T090904Z
URL:https://business.arcatachamber.com/events/details/community-conversation-battery-energy-storage-07-23-2025-581
END:VEVENT

END:VCALENDAR
