BEGIN:VCALENDAR
VERSION:2.0
PRODID:-//ChamberMaster//Event Calendar 2.0//EN
METHOD:PUBLISH
X-PUBLISHED-TTL:P3D
REFRESH-INTERVAL:P3D
CALSCALE:GREGORIAN
BEGIN:VEVENT
DTSTART:20260109T180000Z
DTEND:20260109T230000Z
X-MICROSOFT-CDO-ALLDAYEVENT:FALSE
SUMMARY:Community Care Clinic
DESCRIPTION:Community Care Clinic for our regular First Aid Fridays\, this Friday Jan 9 from 10-noon and 1-3 at Moss Oak Commons\, 1905 Alliance in Arcata. We intend to offer herbal care and bodywork decompression for those impacted by the fires and smoke.
X-ALT-DESC;FMTTYPE=text/html:Community Care Clinic for our regular First Aid Fridays\, this Friday Jan 9 from 10-noon and 1-3 at Moss Oak Commons\, 1905 Alliance in Arcata. We intend to offer herbal care and bodywork decompression for those impacted by the fires and smoke.
LOCATION:1905 Alliance in Arcata
UID:e.2942.638
SEQUENCE:3
DTSTAMP:20260421T191048Z
URL:https://business.arcatachamber.com/events/details/community-care-clinic-638
END:VEVENT

END:VCALENDAR
