BEGIN:VCALENDAR
VERSION:2.0
PRODID:-//ChamberMaster//Event Calendar 2.0//EN
METHOD:PUBLISH
X-PUBLISHED-TTL:P3D
REFRESH-INTERVAL:P3D
CALSCALE:GREGORIAN
BEGIN:VEVENT
DTSTART:20231117T190000Z
DTEND:20231119T000000Z
X-MICROSOFT-CDO-ALLDAYEVENT:FALSE
SUMMARY:Christ the King Xmas Bazaar
DESCRIPTION:Join us for this annual fundraiser featuring homemade and handmade crafts\, Christmas wreaths\, decorations\, lights\, trees etc. This year will feature an extensive "Christmas Village" collection which has been amassed over the past several decades. The event is Friday and Saturday 11am to 4pm.
X-ALT-DESC;FMTTYPE=text/html:Join us for this annual fundraiser featuring homemade and handmade crafts\, Christmas wreaths\, decorations\, lights\, trees etc. This year will feature an extensive &quot\;Christmas Village&quot\; collection which has been amassed over the past several decades. The event is Friday and Saturday 11am to 4pm.
LOCATION:Christ the King Education Center 1951 McKinleyville Avenue McKinleyville\, CA 95519
UID:e.2942.325
SEQUENCE:3
DTSTAMP:20260421T230143Z
URL:https://business.arcatachamber.com/events/details/christ-the-king-xmas-bazaar-325
END:VEVENT

END:VCALENDAR
