BEGIN:VCALENDAR
VERSION:2.0
PRODID:-//ChamberMaster//Event Calendar 2.0//EN
METHOD:PUBLISH
X-PUBLISHED-TTL:P3D
REFRESH-INTERVAL:P3D
CALSCALE:GREGORIAN
BEGIN:VEVENT
DTSTART:20250514T153000Z
DTEND:20250514T163000Z
X-MICROSOFT-CDO-ALLDAYEVENT:FALSE
SUMMARY:Business for Breakfast with RCEA
DESCRIPTION:Meet Your Local Electricity Provider!\n\nRedwood Coast Energy Authority (RCEA) is your local electricity provider that invests in Humboldt County by buying clean electricity and building renewable and reliable energy resources that benefit our community.\n\n\n\nJoin us for a presentation to learn about free energy-related resources provided to businesses and residents to reduce electricity usage and about how to save money on your electricity bills. Learn about energy projects implemented in Arcata and how local businesses are becoming more energy resilient!\n\nLearn more at www.redwoodenergy.org.
X-ALT-DESC;FMTTYPE=text/html:Meet Your Local Electricity Provider!<br />\nRedwood Coast Energy Authority (RCEA) is your local electricity provider that invests in Humboldt County by buying clean electricity and building renewable and reliable energy resources that benefit our community.<br />\n<br />\nJoin us for a presentation to learn about free energy-related resources provided to businesses and residents to reduce electricity usage and about how to save money on your electricity bills. Learn about energy projects implemented in Arcata and how local businesses are becoming more energy resilient!<br />\nLearn more at www.redwoodenergy.org.
LOCATION:876 7th St\, Arcata\, CA 95521
UID:e.2942.576
SEQUENCE:3
DTSTAMP:20260421T114708Z
URL:https://business.arcatachamber.com/events/details/business-for-breakfast-with-rcea-576
END:VEVENT

END:VCALENDAR
