BEGIN:VCALENDAR
VERSION:2.0
PRODID:-//ChamberMaster//Event Calendar 2.0//EN
METHOD:PUBLISH
X-PUBLISHED-TTL:P3D
REFRESH-INTERVAL:P3D
CALSCALE:GREGORIAN
BEGIN:VEVENT
DTSTART:20240110T163000Z
DTEND:20240110T180000Z
X-MICROSOFT-CDO-ALLDAYEVENT:FALSE
SUMMARY:Business for Breakfast with Jen Dart
DESCRIPTION:Join us at the Chamber of Commerce for a presentation on the General Plan from Jen Dart who is the Deputy Development Director for the City of Arcata. \n\nFree for Members\n\n$5 for Non-Members
X-ALT-DESC;FMTTYPE=text/html:<span style="font-size:14px\;"><span style="font-family:arial\;">Join us at the Chamber of Commerce for a presentation on the General Plan from Jen Dart who is the Deputy Development Director for the City of Arcata.&nbsp\;<br />\n<span style="color: rgb(68\, 68\, 68)\;">Free for Members</span><br style="box-sizing: border-box\; color: rgb(68\, 68\, 68)\; font-family: Arial\, Helvetica\, sans-serif\; font-size: 16px\;" />\n<span style="color: rgb(68\, 68\, 68)\;">$5 for Non-Members</span></span></span>
LOCATION:1635 Heindon Road Arcata\, CA 95521
UID:e.2942.344
SEQUENCE:3
DTSTAMP:20260422T015458Z
URL:https://business.arcatachamber.com/events/details/business-for-breakfast-with-jen-dart-344
END:VEVENT

END:VCALENDAR
