BEGIN:VCALENDAR
VERSION:2.0
PRODID:-//ChamberMaster//Event Calendar 2.0//EN
METHOD:PUBLISH
X-PUBLISHED-TTL:P3D
REFRESH-INTERVAL:P3D
CALSCALE:GREGORIAN
BEGIN:VEVENT
DTSTART:20240410T153000Z
DTEND:20240410T170000Z
X-MICROSOFT-CDO-ALLDAYEVENT:FALSE
SUMMARY:Business for Breakfast- Personal Finance Principles
DESCRIPTION:Presentations by Jim Ritter\, Sarah Hiller\, Trina Cardoza\, and Maya Martin. \n\n\n\nThis workshop will focus on basic personal finance principles including tips about budgeting\, managing credit and debt\, saving and investing\, and insurance. Chamber members who want to review their personal finance situation\, or business owners who want to provide financial literacy education and support for their employees\, will get the most value from attending the workshop. Jim Ritter will also be offering free financial coaching appointments to anyone who attends the workshop and would like to work on their own financial goals. There is no charge for these coaching appointments\, which will focus on an individual's goals and questions.
X-ALT-DESC;FMTTYPE=text/html:Presentations by Jim Ritter\, Sarah Hiller\, Trina Cardoza\, and Maya Martin.&nbsp\;<br />\n<br />\nThis workshop will focus on basic personal finance principles including tips about budgeting\, managing credit and debt\, saving and investing\, and insurance. Chamber members who want to review their personal finance situation\, or business owners who want to provide financial literacy education and support for their employees\, will get the most value from attending the workshop. Jim Ritter will also be offering free financial coaching appointments to anyone who attends the workshop and would like to work on their own financial goals. There is no charge for these coaching appointments\, which will focus on an individual&#39\;s goals and questions.
LOCATION:1635 Heindon Road\, Arcata CA 95521
UID:e.2942.501
SEQUENCE:3
DTSTAMP:20260422T064620Z
URL:https://business.arcatachamber.com/events/details/business-for-breakfast-personal-finance-principles-501
END:VEVENT

END:VCALENDAR
