BEGIN:VCALENDAR
VERSION:2.0
PRODID:-//ChamberMaster//Event Calendar 2.0//EN
METHOD:PUBLISH
X-PUBLISHED-TTL:P3D
REFRESH-INTERVAL:P3D
CALSCALE:GREGORIAN
BEGIN:VEVENT
DTSTART:20230923T003000Z
DTEND:20230923T023000Z
X-MICROSOFT-CDO-ALLDAYEVENT:FALSE
SUMMARY:Business Field Trip - Recology
DESCRIPTION:Join us for an awesome tour\, important information and facts about our city's waste\, refreshments\, and networking!
X-ALT-DESC;FMTTYPE=text/html:<span class="WdYUQQ text-decoration-none text-strikethrough-none">Join us for an awesome tour\, important information and facts about our city&#39\;s waste\, refreshments\, and networking!</span>
LOCATION:555 Vance Avenue Samoa\, CA
UID:e.2942.292
SEQUENCE:3
DTSTAMP:20260421T194357Z
URL:https://business.arcatachamber.com/events/details/business-field-trip-recology-292
END:VEVENT

END:VCALENDAR
