BEGIN:VCALENDAR
VERSION:2.0
PRODID:-//ChamberMaster//Event Calendar 2.0//EN
METHOD:PUBLISH
X-PUBLISHED-TTL:P3D
REFRESH-INTERVAL:P3D
CALSCALE:GREGORIAN
BEGIN:VEVENT
DTSTART:20231110T010000Z
DTEND:20231110T020000Z
X-MICROSOFT-CDO-ALLDAYEVENT:FALSE
SUMMARY:Business Field Trip - Holly Yashi
DESCRIPTION:Join us for a business field trip to Holly Yashi!
X-ALT-DESC;FMTTYPE=text/html:Join us for a business field trip to Holly Yashi!<br />\n&nbsp\;
LOCATION:1300 9th Street Arcata CA
UID:e.2942.291
SEQUENCE:3
DTSTAMP:20260421T230328Z
URL:https://business.arcatachamber.com/events/details/business-field-trip-holly-yashi-291
END:VEVENT

END:VCALENDAR
