BEGIN:VCALENDAR
VERSION:2.0
PRODID:-//ChamberMaster//Event Calendar 2.0//EN
METHOD:PUBLISH
X-PUBLISHED-TTL:P3D
REFRESH-INTERVAL:P3D
CALSCALE:GREGORIAN
BEGIN:VEVENT
DTSTART:20240413T003000Z
DTEND:20240413T020000Z
X-MICROSOFT-CDO-ALLDAYEVENT:FALSE
SUMMARY:Business Field Trip - Alchemy Distillery
DESCRIPTION:Free Distillery Tour for Arcata Chamber Members only. April 12th at 5:30 pm. There is only space for 13 people for this event but we will have a waitlist.\n\nThere will also be a tasting after\, that will be $10. \n\n330 S G St\n\nArcata\, CA 95521.
X-ALT-DESC;FMTTYPE=text/html:Free Distillery Tour for Arcata Chamber Members only. April 12th at 5:30 pm. There is only space for 13 people for this event but we will have a waitlist.<br />\nThere will also be a tasting after\, that will be $10.&nbsp\;<br />\n330 S G St<br />\nArcata\, CA 95521.&nbsp\;
LOCATION:330 S G St Arcata\, CA 95521.
UID:e.2942.502
SEQUENCE:3
DTSTAMP:20260422T064429Z
URL:https://business.arcatachamber.com/events/details/business-field-trip-alchemy-distillery-502
END:VEVENT

END:VCALENDAR
