BEGIN:VCALENDAR
VERSION:2.0
PRODID:-//ChamberMaster//Event Calendar 2.0//EN
METHOD:PUBLISH
X-PUBLISHED-TTL:P3D
REFRESH-INTERVAL:P3D
CALSCALE:GREGORIAN
BEGIN:VEVENT
DTSTART:20230402T180000Z
DTEND:20230402T190000Z
X-MICROSOFT-CDO-ALLDAYEVENT:FALSE
SUMMARY:Business Field Trip
DESCRIPTION:Join us for a Business Field Trip to the Arcata Recology Samoa Facility!\n\nFrank and the team at Recology will provide a tour\, a discussion and presentations\, refreshments\, and some swag!\n\nWe will be opening this up to members only and there is a 25-person registration limit online!
X-ALT-DESC;FMTTYPE=text/html:Join us for a Business Field Trip to the Arcata Recology Samoa Facility!<br />\nFrank and the team at Recology will provide a tour\, a discussion and presentations\, refreshments\, and some swag!<br />\nWe will be opening this up to members only and there is a 25-person registration limit online!<br />\n&nbsp\;
LOCATION:555 Vance Avenue\, Samoa\, CA 95564
UID:e.2942.245
SEQUENCE:3
DTSTAMP:20260421T114604Z
URL:https://business.arcatachamber.com/events/details/business-field-trip-245
END:VEVENT

END:VCALENDAR
