BEGIN:VCALENDAR
VERSION:2.0
PRODID:-//ChamberMaster//Event Calendar 2.0//EN
METHOD:PUBLISH
X-PUBLISHED-TTL:P3D
REFRESH-INTERVAL:P3D
CALSCALE:GREGORIAN
BEGIN:VEVENT
DTSTART:20260204T013000Z
DTEND:20260204T030000Z
X-MICROSOFT-CDO-ALLDAYEVENT:FALSE
SUMMARY:BNI International Networking Week Mixer
DESCRIPTION:The North Coast Chapter of Business Network International (BNI) announces it will host an after-hours Mixer to commemorate International Networking Week. The free event will take place at the Eureka Woman's Club (1531 J Street in Eureka) on Tuesday\, February 3rd from 5:30 pm to 7:00 pm. Business owners and professionals in Humboldt are invited to participate. Food\, beverages and door prizes will be offered to attendees.
X-ALT-DESC;FMTTYPE=text/html:The North Coast Chapter of Business Network International (BNI) announces it will host an after-hours Mixer to commemorate International Networking Week. The free event will take place at the Eureka Woman&rsquo\;s Club (1531 J Street in Eureka) on Tuesday\, February 3rd from 5:30 pm to 7:00 pm. Business owners and professionals in Humboldt are invited to participate. Food\, beverages and door prizes will be offered to attendees.
LOCATION:Eureka Woman's Club 1531 J Street\, Eureka 95501
UID:e.2942.644
SEQUENCE:3
DTSTAMP:20260421T173900Z
URL:https://business.arcatachamber.com/events/details/bni-international-networking-week-mixer-644
END:VEVENT

END:VCALENDAR
