BEGIN:VCALENDAR
VERSION:2.0
PRODID:-//ChamberMaster//Event Calendar 2.0//EN
METHOD:PUBLISH
X-PUBLISHED-TTL:P3D
REFRESH-INTERVAL:P3D
CALSCALE:GREGORIAN
BEGIN:VEVENT
DTSTART:20260606T160000Z
DTEND:20260606T180000Z
X-MICROSOFT-CDO-ALLDAYEVENT:FALSE
SUMMARY:Bivalves and Brews 5k
DESCRIPTION:
X-ALT-DESC;FMTTYPE=text/html:
LOCATION:
UID:e.2942.634
SEQUENCE:3
DTSTAMP:20260419T153435Z
URL:https://business.arcatachamber.com/events/details/bivalves-and-brews-5k-634
END:VEVENT

END:VCALENDAR
