BEGIN:VCALENDAR
VERSION:2.0
PRODID:-//ChamberMaster//Event Calendar 2.0//EN
METHOD:PUBLISH
X-PUBLISHED-TTL:P3D
REFRESH-INTERVAL:P3D
CALSCALE:GREGORIAN
BEGIN:VEVENT
DTSTART:20230304T013000Z
DTEND:20230304T033000Z
X-MICROSOFT-CDO-ALLDAYEVENT:FALSE
SUMMARY:Benbow Inn - All Chamber Mixer
DESCRIPTION:Join Chamber Members from Various Northern\n\nCalifornia Counties as well as State and Local Officials.
X-ALT-DESC;FMTTYPE=text/html:Join Chamber Members from Various Northern<br />\nCalifornia Counties as well as State and Local Officials.
LOCATION:Mixer 5:30 PM 7:30 PM in the Upper Lobby Join us for complimentary Hors D'oeuvres\, Beer and Wine\, and Prizes Bring Your Business Card and a Gift for the Drawing!
UID:e.2942.104
SEQUENCE:3
DTSTAMP:20260421T114951Z
URL:https://business.arcatachamber.com/events/details/benbow-inn-all-chamber-mixer-104
END:VEVENT

END:VCALENDAR
