BEGIN:VCALENDAR
VERSION:2.0
PRODID:-//ChamberMaster//Event Calendar 2.0//EN
METHOD:PUBLISH
X-PUBLISHED-TTL:P3D
REFRESH-INTERVAL:P3D
CALSCALE:GREGORIAN
BEGIN:VEVENT
DTSTART:20221215T030000Z
DTEND:20221215T050000Z
X-MICROSOFT-CDO-ALLDAYEVENT:FALSE
SUMMARY:Autumn Run Movie Screening
DESCRIPTION:Recently announced as a candidate for the First Time Filmmaker award at the Montreal Independent Film Festival\, Autumn Run has been accepted at multiple film festivals throughout 2022\, earning awards for Best First Time Female Filmmaker\, (Toronto FF.)\; and Best Feature   Micro Budget under $250\,000 (International New York FF. Beautifully filmed in Humboldt County\, Autumn Run features all local talent. The movie portrays four siblings reuniting after a tragedy tore them apart ten years earlier. This film is not yet rated but recommended for audiences age 13 and older.? Please visit www.autumnrunmovie.com?for more information.
X-ALT-DESC;FMTTYPE=text/html:Recently announced as a candidate for the First Time Filmmaker award at the Montreal Independent Film Festival\, Autumn Run has been accepted at multiple film festivals throughout 2022\, earning awards for Best First Time Female Filmmaker\, (Toronto FF.)\; and Best Feature &ndash\; Micro Budget under $250\,000 (International New York FF. Beautifully filmed in Humboldt County\, Autumn Run features all local talent. The movie portrays four siblings reuniting after a tragedy tore them apart ten years earlier. This film is not yet rated but recommended for audiences age 13 and older.? Please visit www.autumnrunmovie.com?for more information.
LOCATION:Minor Theatre\, Arcata
UID:e.2942.60
SEQUENCE:3
DTSTAMP:20260421T114837Z
URL:https://business.arcatachamber.com/events/details/autumn-run-movie-screening-60
END:VEVENT

END:VCALENDAR
