BEGIN:VCALENDAR
VERSION:2.0
PRODID:-//ChamberMaster//Event Calendar 2.0//EN
METHOD:PUBLISH
X-PUBLISHED-TTL:P3D
REFRESH-INTERVAL:P3D
CALSCALE:GREGORIAN
BEGIN:VEVENT
DTSTART:20230514T170000Z
DTEND:20230515T000000Z
X-MICROSOFT-CDO-ALLDAYEVENT:FALSE
SUMMARY:Atalanta's Victory Run
DESCRIPTION:A walk and run supporting women and women's health Atalanta's Victory Run is held on Mother's Day\, Sunday May 14th 2023\, at 10am and features 2 mile and 5 mile courses starting and finishing at the Arcata Co-op. Runners\, walkers\, and strollers welcome. Race proceeds support the Breast and GYN Health Project.
X-ALT-DESC;FMTTYPE=text/html:A walk and run supporting women and women&#39\;s health Atalanta&#39\;s Victory Run is held on Mother&#39\;s Day\, Sunday May 14th 2023\, at 10am and features 2 mile and 5 mile courses starting and finishing at the Arcata Co-op. Runners\, walkers\, and strollers welcome. Race proceeds support the Breast and GYN Health Project.
LOCATION:Arcata Co-op
UID:e.2942.277
SEQUENCE:3
DTSTAMP:20260421T132924Z
URL:https://business.arcatachamber.com/events/details/atalanta-s-victory-run-277
END:VEVENT

END:VCALENDAR
