BEGIN:VCALENDAR
VERSION:2.0
PRODID:-//ChamberMaster//Event Calendar 2.0//EN
METHOD:PUBLISH
X-PUBLISHED-TTL:P3D
REFRESH-INTERVAL:P3D
CALSCALE:GREGORIAN
BEGIN:VEVENT
DTSTART:20231209T000000Z
DTEND:20231209T040000Z
X-MICROSOFT-CDO-ALLDAYEVENT:FALSE
SUMMARY:Arts! Arcata - Season of Wonder and Light
DESCRIPTION:Join us for a great Arts! Arcata! \n\n\n\n Season of Wonder and Light   presented by Arcata Chamber of Commerce!\n\nDec. 3rd   Santa Comes to Town!  Join Santa in Valley West at 11:30am for hot chocolate\, cookies and ornament making... the see him off as he heads to the Jacoby Store House on the antique fire engine.\n\nDec. 7th   First Night of Hanukkah Menorah Lighting\, join the Chabad of Humboldt for the 12th annual Chanukah on the Plaza!  Grand Menorah lighting\, with music\, and holiday treats\n\nDec. 8th   Arts! Arcata... pictures with the Snowflake Queen\, performances by No Limits Dance Academy\, and Redwood Interfaith Gospel Choir.\n\nDec. 15th   Holiday Open House at the Creamery - Join local artists for a party on L street and check out studios and shops\, live music\, fresh oysters\, drink specials at the Pub and Santa!\n\nDec. 16th   Shop local and brows the Plaza shops during the Arcata Farmers Market from 10am-2pm
X-ALT-DESC;FMTTYPE=text/html:Join us for a great Arts! Arcata!&nbsp\;<br />\n<br />\n&#10024\;Season of Wonder and Light &#10024\; presented by Arcata Chamber of Commerce!<br />\nDec. 3rd &#127775\; Santa Comes to Town!&nbsp\; Join Santa in Valley West at 11:30am for hot chocolate\, cookies and ornament making... the see him off as he heads to the Jacoby Store House on the antique fire engine.<br />\nDec. 7th &#127775\; First Night of Hanukkah Menorah Lighting\, join the Chabad of Humboldt for the 12th annual Chanukah on the Plaza!&nbsp\; Grand Menorah lighting\, with music\, and holiday treats<br />\nDec. 8th &#127775\; Arts! Arcata... pictures with the Snowflake Queen\, performances by No Limits Dance Academy\, and Redwood Interfaith Gospel Choir.<br />\nDec. 15th &#127775\; Holiday Open House at the Creamery - Join local artists for a party on L street and check out studios and shops\, live music\, fresh oysters\, drink specials at the Pub and Santa!<br />\nDec. 16th &#127775\; Shop local and brows the Plaza shops during the Arcata Farmers Market from 10am-2pm
LOCATION:Arcata Plaza
UID:e.2942.337
SEQUENCE:3
DTSTAMP:20260422T004226Z
URL:https://business.arcatachamber.com/events/details/arts-arcata-season-of-wonder-and-light-337
END:VEVENT

END:VCALENDAR
