BEGIN:VCALENDAR
VERSION:2.0
PRODID:-//ChamberMaster//Event Calendar 2.0//EN
METHOD:PUBLISH
X-PUBLISHED-TTL:P3D
REFRESH-INTERVAL:P3D
CALSCALE:GREGORIAN
BEGIN:VEVENT
DTSTART:20240113T000000Z
DTEND:20240113T040000Z
X-MICROSOFT-CDO-ALLDAYEVENT:FALSE
SUMMARY:ARTS! Arcata
DESCRIPTION:Businesses in Arcata please let us know if you will be open\, what artists you may be featuring or of active sales!
X-ALT-DESC;FMTTYPE=text/html:Businesses in Arcata please let us know if you will be open\, what artists you may be featuring or of active sales!<br />\n&nbsp\;
LOCATION:
UID:e.2942.345
SEQUENCE:3
DTSTAMP:20260422T015157Z
URL:https://business.arcatachamber.com/events/details/arts-arcata-345
END:VEVENT

END:VCALENDAR
