BEGIN:VCALENDAR
VERSION:2.0
PRODID:-//ChamberMaster//Event Calendar 2.0//EN
METHOD:PUBLISH
X-PUBLISHED-TTL:P3D
REFRESH-INTERVAL:P3D
CALSCALE:GREGORIAN
BEGIN:VEVENT
DTSTART:20231111T000000Z
DTEND:20231111T040000Z
X-MICROSOFT-CDO-ALLDAYEVENT:FALSE
SUMMARY:Arts! Arcata
DESCRIPTION:The Arcata Chamber of Commerce is gearing up to continue the tradition of Arts! Arcata. The next one is Friday\, November 10th. We encourage businesses all across Arcata to stay open later and have a small gallery\, a musician\, live art\, a workshop\, a small vendor selling art. Please let us know if you are planning to do anything special for Arts! Arcata so we can include you on our flier and promotion!
X-ALT-DESC;FMTTYPE=text/html:<p dir="ltr" style="line-height:1.38\;margin-top:0pt\;margin-bottom:0pt\;"><span id="docs-internal-guid-65ba50d4-7fff-4038-c1e3-e9520b327b50"><span style="font-size: 12pt\; font-family: Lora\, serif\; font-weight: 700\; font-variant-numeric: normal\; font-variant-east-asian: normal\; font-variant-alternates: normal\; font-variant-position: normal\; vertical-align: baseline\; white-space-collapse: preserve\;">The Arcata Chamber of Commerce is gearing up to continue the tradition of Arts! Arcata. The next one is Friday\, November 10th. We encourage businesses all across Arcata to stay open later and have a small gallery\, a musician\, live art\, a workshop\, a small vendor selling art. Please let us know if you are planning to do anything special for Arts! Arcata so we can include you on our flier and promotion!&nbsp\;</span></span></p>\n\n<div>&nbsp\;</div>\n
LOCATION:
UID:e.2942.331
SEQUENCE:3
DTSTAMP:20260421T225902Z
URL:https://business.arcatachamber.com/events/details/arts-arcata-331
END:VEVENT

END:VCALENDAR
