BEGIN:VCALENDAR
VERSION:2.0
PRODID:-//ChamberMaster//Event Calendar 2.0//EN
METHOD:PUBLISH
X-PUBLISHED-TTL:P3D
REFRESH-INTERVAL:P3D
CALSCALE:GREGORIAN
BEGIN:VEVENT
DTSTART;VALUE=DATE:20230529
DTEND;VALUE=DATE:20230530
TRANSP:TRANSPARENT
X-MICROSOFT-CDO-ALLDAYEVENT:TRUE
SUMMARY:Arcata Chamber Offices - Closed
DESCRIPTION:Memorial Day Observance
X-ALT-DESC;FMTTYPE=text/html:Memorial Day Observance
LOCATION:
UID:e.2942.68
SEQUENCE:3
DTSTAMP:20260421T132923Z
URL:https://business.arcatachamber.com/events/details/arcata-chamber-offices-closed-68
END:VEVENT

END:VCALENDAR
