BEGIN:VCALENDAR
VERSION:2.0
PRODID:-//ChamberMaster//Event Calendar 2.0//EN
METHOD:PUBLISH
X-PUBLISHED-TTL:P3D
REFRESH-INTERVAL:P3D
CALSCALE:GREGORIAN
BEGIN:VEVENT
DTSTART:20230820T180000Z
DTEND:20230820T230000Z
X-MICROSOFT-CDO-ALLDAYEVENT:FALSE
SUMMARY:Arcata Chamber of Commerce Presents a Foodworks Block Party!
DESCRIPTION:Join us for local food\, drinks\, vendors\, music\, a raffle\, networking\, and more!
X-ALT-DESC;FMTTYPE=text/html:Join us for local food\, drinks\, vendors\, music\, a raffle\, networking\, and more!
LOCATION:100 Ericson Court Arcata CA 95521
UID:e.2942.284
SEQUENCE:3
DTSTAMP:20260421T181718Z
URL:https://business.arcatachamber.com/events/details/arcata-chamber-of-commerce-presents-a-foodworks-block-party-284
END:VEVENT

END:VCALENDAR
