BEGIN:VCALENDAR
VERSION:2.0
PRODID:-//ChamberMaster//Event Calendar 2.0//EN
METHOD:PUBLISH
X-PUBLISHED-TTL:P3D
REFRESH-INTERVAL:P3D
CALSCALE:GREGORIAN
BEGIN:VEVENT
DTSTART:20221215T170000Z
DTEND:20221216T063000Z
X-MICROSOFT-CDO-ALLDAYEVENT:FALSE
SUMMARY:Arcata Chamber - Board of Directors Meeting
DESCRIPTION:The Arcata Chamber of Commerce Board of Directors Meeting
X-ALT-DESC;FMTTYPE=text/html:The Arcata Chamber of Commerce Board of Directors Meeting
LOCATION:1635 Heindon Road\, Arcata\, CA 95521
UID:e.2942.46
SEQUENCE:3
DTSTAMP:20260421T120901Z
URL:https://business.arcatachamber.com/events/details/arcata-chamber-board-of-directors-meeting-12-21-2022-46
END:VEVENT

END:VCALENDAR
