BEGIN:VCALENDAR
VERSION:2.0
PRODID:-//ChamberMaster//Event Calendar 2.0//EN
METHOD:PUBLISH
X-PUBLISHED-TTL:P3D
REFRESH-INTERVAL:P3D
CALSCALE:GREGORIAN
BEGIN:VEVENT
DTSTART:20260118T053000Z
DTEND:20260118T090000Z
X-MICROSOFT-CDO-ALLDAYEVENT:FALSE
SUMMARY:Arcane Artists & Bass Culture Benefit Show
DESCRIPTION:Arcane Artists & Bass Culture are coming together for our first ever collaboration to do what we do best  throwing memorable parties! Join us Saturday\, Jan 17th @ Havana for PANTIES & FLANNIES! Pull out your best undergarments and flannels and party for a good cause! We are donating 100% of proceeds to those effected through even distribution to the current crowdfunding campaigns. In addition $5 from every panty and boxer sale will also be donated  so if you've been debating a sexy pair of undies  now is your time to grab em! 2026 is the time to be yourself!
X-ALT-DESC;FMTTYPE=text/html:Arcane Artists &amp\; Bass Culture are coming together for our first ever collaboration to do what we do best&hellip\; throwing memorable parties! Join us Saturday\, Jan 17th @ Havana for PANTIES &amp\; FLANNIES! Pull out your best undergarments and flannels and party for a good cause! We are donating 100% of proceeds to those effected through even distribution to the current crowdfunding campaigns. In addition $5 from every panty and boxer sale will also be donated&hellip\; so if you&rsquo\;ve been debating a sexy pair of undies&hellip\; now is your time to grab em! 2026 is the time to be yourself!
LOCATION:Havana Restaurant and Bar
UID:e.2942.637
SEQUENCE:3
DTSTAMP:20260421T191325Z
URL:https://business.arcatachamber.com/events/details/arcane-artists-bass-culture-benefit-show-637
END:VEVENT

END:VCALENDAR
